BEGIN:VCALENDAR
VERSION:2.0
PRODID:1771
CALSCALE:GREGORIAN
X-WR-TIMEZONE:Pacific/Auckland
METHOD:PUBLISH
BEGIN:VEVENT
SUMMARY:Sports Performance and Prevention Conference
DESCRIPTION: The Sports Performance and Prevention Conference brings together a wide range of industry experts from across the New Zealand sporting spectrum as well as invited international professionals, for an incredibly valuable learning and sharing opportunity in NZ Sport. 
STATUS:CONFIRMED
LOCATION:University of Auckland Medical School, Grafton Road, Auckland
ORGANISER:Various
UID:1771
DTSTART:20180217T080000
DTEND:20180217T173000
CREATED:20171214T092908
LAST-MODIFIED:20171214T092908
END:VEVENT
END:VCALENDAR